BEGIN:VCALENDAR
VERSION:2.0
PRODID:-//hacksw/handcal//NONSGML v1.0//EN
BEGIN:VEVENT
SUMMARY:Entrainement
UID:d0a9e2cd-1a9e-438a-9804-1d357f32089f
DTSTART:20260311T090000Z
DTEND:20260311T130000Z
LOCATION:Localisation   
CATEGORIES:Sportif
STATUS:
DESCRIPTION:Entrainement pour toutes les equipes afin de preparer les
 prochains tournois.
URL;VALUE=URI:https://les-archers-d-ozoir.sportsregions.fr/evenements/2026/03/11/entrainement-2426316
END:VEVENT
END:VCALENDAR
